BEGIN:VCALENDAR
VERSION:2.0
PRODID:icalendar-ruby
CALSCALE:GREGORIAN
METHOD:PUBLISH
BEGIN:VEVENT
DTSTAMP:20260420T123336Z
UID:60-1856082@shellbrookpentecostal.ca
DTSTART:20260425T153000Z
DTEND:20260425T173000Z
CLASS:PUBLIC
CREATED:20260414T162801
DESCRIPTION:Our first Discipleship Breakfast is on April 25\, 8:30am at She
 llbrook Pentecostal Assembly--we are calling all men to come out for a mor
 ning of eating\, discipleship\, and community building.  We look forward 
 to building a strong brotherhood of discipleship at our church and in our 
 community.  Troy Moore is speaking and there will be lots of food!\nBring
  a friend.
LAST-MODIFIED:20260414T162801
LOCATION:Shellbrook Pentecostal Assembly
SUMMARY:Men's Discipleship Breakfast
URL;VALUE=URI:https://www.shellbrookpentecostal.ca/events/mens-discipleship
 -breakfast/2026-04-25
ATTACH;FILENAME=Mens-Breakfast.jpg;FMTTYPE=image/jpeg:https://dq5pwpg1q8ru0
 .cloudfront.net/2026/04/14/23/28/00/580a4929-4afa-48af-a9fe-aa724712edce/M
 ens-Breakfast.jpg
END:VEVENT
END:VCALENDAR
