BEGIN:VCALENDAR
VERSION:2.0
PRODID:icalendar-ruby
CALSCALE:GREGORIAN
METHOD:PUBLISH
BEGIN:VEVENT
DTSTAMP:20260423T225156Z
UID:46-1892982@shellbrookpentecostal.ca
DTSTART:20261028T223000Z
DTEND:20261029T000000Z
CLASS:PUBLIC
CREATED:20260423T151631
DESCRIPTION:Kids club is back.  Kids ages Gr.1-Gr.4 are invited to come an
 d hang out with friends\, to play games\, have some snacks and learn from 
 God's word.  Everyone is welcome\, this is a perfect time to bring a frie
 nd and have some fun. 
LAST-MODIFIED:20260423T151631
LOCATION:Shellbrook Pentecostal Assembly
SUMMARY:Kids Club: Gr. 1-Gr. 4
URL;VALUE=URI:https://www.shellbrookpentecostal.ca/events/kids-club-gr-1-gr
 -4/2026-10-28
ATTACH;FILENAME=White-and-Black-Church-Prayer-YouTube-Thumbnail-%281%29.jpg
 ;FMTTYPE=image/jpeg:https://dq5pwpg1q8ru0.cloudfront.net/2025/09/09/17/19/
 59/7a0a14ef-40c9-4b17-af93-8338bc696ac4/White-and-Black-Church-Prayer-YouT
 ube-Thumbnail-%25281%2529.jpg
END:VEVENT
END:VCALENDAR
