BEGIN:VCALENDAR
VERSION:2.0
PRODID:icalendar-ruby
CALSCALE:GREGORIAN
METHOD:PUBLISH
BEGIN:VEVENT
DTSTAMP:20260423T183230Z
UID:56-1891728@shellbrookpentecostal.ca
DTSTART:20260823T163000Z
DTEND:20260823T171500Z
CLASS:PUBLIC
CREATED:20260423T092512
DESCRIPTION:Join us every Sunday as we begin the Lord's Day of Worship with
  Adult Sunday School.  We gather to learn and discuss God's word together
  before we gather to worship God together as a church family.\nEveryone is
  welcome. 
LAST-MODIFIED:20260423T092512
LOCATION:Shellbrook Pentecostal Assembly
SUMMARY:Adult Sunday School 
URL;VALUE=URI:https://www.shellbrookpentecostal.ca/events/adult-sunday-scho
 ol/2026-08-23
ATTACH;FILENAME=Adult-Sunday-School-%281%29.jpg;FMTTYPE=image/jpeg:https://
 dq5pwpg1q8ru0.cloudfront.net/2025/12/11/23/09/32/cbbd330f-6de7-4289-92a6-e
 a5069d3f05e/Adult-Sunday-School-%25281%2529.jpg
END:VEVENT
END:VCALENDAR
